BEGIN:VCALENDAR
VERSION:2.0
BEGIN:VEVENT
UID:69e4f8a6e2327
DTSTAMP:20260419T154542Z
DTSTART;VALUE=DATE:20260526
DTEND;VALUE=DATE:20260530
SUMMARY:ITM Industry Europe
END:VEVENT
END:VCALENDAR
