BEGIN:VCALENDAR
VERSION:2.0
BEGIN:VEVENT
UID:69e4f89aa38f9
DTSTAMP:20260419T154530Z
DTSTART;VALUE=DATE:20260928
DTEND;VALUE=DATE:20261004
SUMMARY:Maktek Eurasia 2026
END:VEVENT
END:VCALENDAR
