BEGIN:VCALENDAR
VERSION:2.0
BEGIN:VEVENT
UID:69e4f8f6c57d1
DTSTAMP:20260419T154702Z
DTSTART;VALUE=DATE:20260603
DTEND;VALUE=DATE:20260605
SUMMARY:Smart Manufacturing Week
END:VEVENT
END:VCALENDAR
